BEGIN:VCALENDAR
VERSION:2.0
PRODID:-//Shree Nisargadatta Adhyatma Kendra - ECPv6.15.18//NONSGML v1.0//EN
CALSCALE:GREGORIAN
METHOD:PUBLISH
X-ORIGINAL-URL:https://nisargadattamaharajofficialcenter.com
X-WR-CALDESC:Events for Shree Nisargadatta Adhyatma Kendra
REFRESH-INTERVAL;VALUE=DURATION:PT1H
X-Robots-Tag:noindex
X-PUBLISHED-TTL:PT1H
BEGIN:VTIMEZONE
TZID:Asia/Kolkata
BEGIN:STANDARD
TZOFFSETFROM:+0530
TZOFFSETTO:+0530
TZNAME:IST
DTSTART:20200101T000000
END:STANDARD
END:VTIMEZONE
BEGIN:VEVENT
DTSTART;TZID=Asia/Kolkata:20250711T000000
DTEND;TZID=Asia/Kolkata:20250823T235959
DTSTAMP:20260421T011137
CREATED:20250814T075234Z
LAST-MODIFIED:20250817T101955Z
UID:5512-1752192000-1755993599@nisargadattamaharajofficialcenter.com
SUMMARY:Shravan Saptah
DESCRIPTION:We have bhajans and pravachan in the ashram. \n\n\n\nIn the morning Bhajan\, meditation and aarti. Timings 11.00 am to 2.00 pm \n\n\n\nIn the evening Bhajan\, pravachan and aarti Timings. 6.30 pm to 8.30 pm
URL:https://nisargadattamaharajofficialcenter.com/event/shravan-saptah/
END:VEVENT
BEGIN:VEVENT
DTSTART;TZID=Asia/Kolkata:20210214T183000
DTEND;TZID=Asia/Kolkata:20210214T193000
DTSTAMP:20260421T011137
CREATED:20210211T125837Z
LAST-MODIFIED:20210211T130036Z
UID:4031-1613327400-1613331000@nisargadattamaharajofficialcenter.com
SUMMARY:भाऊसाहेब महाराज १०७ वि  पुण्यतिथी
DESCRIPTION:
URL:https://nisargadattamaharajofficialcenter.com/event/%e0%a4%ad%e0%a4%be%e0%a4%8a%e0%a4%b8%e0%a4%be%e0%a4%b9%e0%a5%87%e0%a4%ac-%e0%a4%ae%e0%a4%b9%e0%a4%be%e0%a4%b0%e0%a4%be%e0%a4%9c-%e0%a5%a7%e0%a5%a6%e0%a5%ad-%e0%a4%b5%e0%a4%bf-%e0%a4%aa%e0%a5%81/
END:VEVENT
END:VCALENDAR